BEGIN:VCALENDAR
VERSION:2.0
PRODID:-//Drupal//DD Create//EN
METHOD:PUBLISH
BEGIN:VEVENT
UID:dd_create.1545.0
DTSTAMP:20260425T145119Z
DTSTART:20170116T080000Z
DTEND:20170116T080000Z
SUMMARY:Martin Luther King Jr. Day
URL;VALUE=URI:https://www.sthope.org/event/martin-luther-king-jr-day
END:VEVENT
END:VCALENDAR
