BEGIN:VCALENDAR
VERSION:2.0
PRODID:-//Drupal//DD Create//EN
METHOD:PUBLISH
BEGIN:VEVENT
UID:dd_create.1523.0
DTSTAMP:20260424T002138Z
DTSTART:20160921T003000Z
DTEND:20160921T023000Z
SUMMARY:Ps7 Elementary Back to School Night
URL;VALUE=URI:https://www.sthope.org/event/ps7-elementary-back-school-night
END:VEVENT
END:VCALENDAR
