BEGIN:VCALENDAR
VERSION:2.0
PRODID:-//Drupal//DD Create//EN
METHOD:PUBLISH
BEGIN:VEVENT
UID:dd_create.1522.0
DTSTAMP:20260421T232206Z
DTSTART:20160826T223500Z
DTEND:20160826T233000Z
SUMMARY:Sac High Freshman Luau
URL;VALUE=URI:https://www.sthope.org/event/sac-high-freshman-luau
END:VEVENT
END:VCALENDAR
