BEGIN:VCALENDAR
VERSION:2.0
PRODID:-//Drupal//DD Create//EN
METHOD:PUBLISH
BEGIN:VEVENT
UID:dd_create.1510.0
DTSTAMP:20260423T200246Z
DTSTART:20161029T020000Z
DTEND:20161029T040000Z
SUMMARY:2016 St. HOPE Dinner
URL;VALUE=URI:https://www.sthope.org/event/2016-st-hope-dinner
END:VEVENT
END:VCALENDAR
