BEGIN:VCALENDAR
VERSION:2.0
PRODID:-//Drupal//DD Create//EN
METHOD:PUBLISH
BEGIN:VEVENT
UID:dd_create.1486.0
DTSTAMP:20260423T082523Z
DTSTART:20160831T000000Z
DTEND:20160831T020000Z
SUMMARY:OPPA Back to School Night
URL;VALUE=URI:https://www.sthope.org/event/oppa-back-school-night
END:VEVENT
END:VCALENDAR
