BEGIN:VCALENDAR
VERSION:2.0
PRODID:-//Drupal//DD Create//EN
METHOD:PUBLISH
BEGIN:VEVENT
UID:dd_create.1462.0
DTSTAMP:20260420T025842Z
DTSTART:20160820T020000Z
DTEND:20160820T040000Z
SUMMARY:Bye Bye Birdie
URL;VALUE=URI:https://www.sthope.org/event/bye-bye-birdie
END:VEVENT
BEGIN:VEVENT
UID:dd_create.1462.1
DTSTAMP:20260420T025842Z
DTSTART:20160821T020000Z
DTEND:20160821T040000Z
SUMMARY:Bye Bye Birdie
URL;VALUE=URI:https://www.sthope.org/event/bye-bye-birdie
END:VEVENT
BEGIN:VEVENT
UID:dd_create.1462.2
DTSTAMP:20260420T025842Z
DTSTART:20160821T230000Z
DTEND:20160822T010000Z
SUMMARY:Bye Bye Birdie
URL;VALUE=URI:https://www.sthope.org/event/bye-bye-birdie
END:VEVENT
END:VCALENDAR
