BEGIN:VCALENDAR
VERSION:2.0
PRODID:-//Drupal//DD Create//EN
METHOD:PUBLISH
BEGIN:VEVENT
UID:dd_create.1453.0
DTSTAMP:20260426T025654Z
DTSTART:20160924T210000Z
DTEND:20160924T230000Z
SUMMARY:Book Signing: Through Thine Eyes - The Spiritual Inspiration of God Moving in my Life: Spiritually Inspired Expressions 
URL;VALUE=URI:https://www.sthope.org/event/book-signing-through-thine-eyes-spiritual-inspiration-god-moving-my-life-spiritually-inspired
END:VEVENT
END:VCALENDAR
