BEGIN:VCALENDAR
VERSION:2.0
PRODID:-//Drupal//DD Create//EN
METHOD:PUBLISH
BEGIN:VEVENT
UID:dd_create.1365.0
DTSTAMP:20260422T171708Z
DTSTART:20160902T003000Z
DTEND:20160902T023000Z
SUMMARY:PS7 Middle School Back to School Night 
URL;VALUE=URI:https://www.sthope.org/event/ps7-middle-school-back-school-night
END:VEVENT
END:VCALENDAR
