BEGIN:VCALENDAR
VERSION:2.0
PRODID:-//Drupal//DD Create//EN
METHOD:PUBLISH
BEGIN:VEVENT
UID:dd_create.1275.0
DTSTAMP:20260422T132547Z
DTSTART:20160901T010000Z
DTEND:20160901T020000Z
SUMMARY:Oak Park Promise Neighborhood Meeting
URL;VALUE=URI:https://www.sthope.org/event/oak-park-promise-neighborhood-meeting
END:VEVENT
END:VCALENDAR
