BEGIN:VCALENDAR
VERSION:2.0
PRODID:-//Drupal//DD Create//EN
METHOD:PUBLISH
BEGIN:VEVENT
UID:dd_create.1175.0
DTSTAMP:20260423T151938Z
DTSTART:20160806T210000Z
DTEND:20160806T230000Z
SUMMARY:Book Signing: "Taffy" by Suzette D. Harrison
URL;VALUE=URI:https://www.sthope.org/event/book-signing-taffy-suzette-d-harrison
END:VEVENT
END:VCALENDAR
