BEGIN:VCALENDAR
VERSION:2.0
PRODID:-//Drupal//DD Create//EN
METHOD:PUBLISH
BEGIN:VEVENT
UID:dd_create.1174.0
DTSTAMP:20260423T152217Z
DTSTART:20160723T210000Z
DTEND:20160723T230000Z
SUMMARY:Book Signing: "Subprime Felon" by Pyerse Dandridge 
URL;VALUE=URI:https://www.sthope.org/event/book-signing-subprime-felon-pyerse-dandridge
END:VEVENT
END:VCALENDAR
